BEGIN:VCALENDAR
VERSION:2.0
PRODID:-//Target Shooting New Zealand - ECPv6.15.20//NONSGML v1.0//EN
CALSCALE:GREGORIAN
METHOD:PUBLISH
X-WR-CALNAME:Target Shooting New Zealand
X-ORIGINAL-URL:https://tsnz.nz
X-WR-CALDESC:Events for Target Shooting New Zealand
REFRESH-INTERVAL;VALUE=DURATION:PT1H
X-Robots-Tag:noindex
X-PUBLISHED-TTL:PT1H
BEGIN:VTIMEZONE
TZID:Pacific/Auckland
BEGIN:STANDARD
TZOFFSETFROM:+1300
TZOFFSETTO:+1200
TZNAME:NZST
DTSTART:20240406T140000
END:STANDARD
BEGIN:DAYLIGHT
TZOFFSETFROM:+1200
TZOFFSETTO:+1300
TZNAME:NZDT
DTSTART:20240928T140000
END:DAYLIGHT
BEGIN:STANDARD
TZOFFSETFROM:+1300
TZOFFSETTO:+1200
TZNAME:NZST
DTSTART:20250405T140000
END:STANDARD
BEGIN:DAYLIGHT
TZOFFSETFROM:+1200
TZOFFSETTO:+1300
TZNAME:NZDT
DTSTART:20250927T140000
END:DAYLIGHT
BEGIN:STANDARD
TZOFFSETFROM:+1300
TZOFFSETTO:+1200
TZNAME:NZST
DTSTART:20260404T140000
END:STANDARD
BEGIN:DAYLIGHT
TZOFFSETFROM:+1200
TZOFFSETTO:+1300
TZNAME:NZDT
DTSTART:20260926T140000
END:DAYLIGHT
END:VTIMEZONE
BEGIN:VEVENT
DTSTART;TZID=Pacific/Auckland:20250913T123000
DTEND;TZID=Pacific/Auckland:20250913T170000
DTSTAMP:20260423T024422
CREATED:20250831T231822Z
LAST-MODIFIED:20250919T015456Z
UID:2699-1757766600-1757782800@tsnz.nz
SUMMARY:Marlborough 2025 Air Rifle Championships
DESCRIPTION:Microsoft Word – Marlborough Air Champs poster 2025 \nMarlborough Air Champs results
URL:https://tsnz.nz/event/marlborough-2025-air-rifle-championships/
LOCATION:Drayton Range\, Bangor Street\, Christchurch
CATEGORIES:Air Rifle,Air Rifle Results
ORGANIZER;CN="Jon Phillipps":MAILTO:marlb.sra@gmail.com
END:VEVENT
BEGIN:VEVENT
DTSTART;TZID=Pacific/Auckland:20250412T100000
DTEND;TZID=Pacific/Auckland:20250412T170000
DTSTAMP:20260423T024422
CREATED:20250304T001011Z
LAST-MODIFIED:20250413T202907Z
UID:915-1744452000-1744477200@tsnz.nz
SUMMARY:Rotorua Air Rifle Open
DESCRIPTION:Rotorua Open Air Rifle Poster \nRotorua Open Air Rifle 2025 Results
URL:https://tsnz.nz/event/rotorua-air-rifle-open/
LOCATION:Puarenga Park\, Rotorua
CATEGORIES:Air Rifle,Air Rifle Results
END:VEVENT
BEGIN:VEVENT
DTSTART;VALUE=DATE:20250118
DTEND;VALUE=DATE:20250119
DTSTAMP:20260423T024422
CREATED:20250121T002310Z
LAST-MODIFIED:20250122T010133Z
UID:265-1737158400-1737244799@tsnz.nz
SUMMARY:BOP Air Rifle
DESCRIPTION:Event RESULTS \nBOP Air Rifle Open 2025 Results (1) \nIsaac had a busy day.  Shooting 3p. Then 50 metre prone.  Finishing of the end of the day winning mens final in air rifle.  Bhagyashree shot well to get the womens final.   Olivia Pratt had a great first time 60 shot match.  Only been shooting air rifle at Rotorua for a few weeks.
URL:https://tsnz.nz/event/bop-air-rifle/
CATEGORIES:Air Rifle,Air Rifle Results
END:VEVENT
END:VCALENDAR