BEGIN:VCALENDAR
VERSION:2.0
PRODID:-//Target Shooting New Zealand - ECPv6.15.20//NONSGML v1.0//EN
CALSCALE:GREGORIAN
METHOD:PUBLISH
X-ORIGINAL-URL:https://tsnz.nz
X-WR-CALDESC:Events for Target Shooting New Zealand
REFRESH-INTERVAL;VALUE=DURATION:PT1H
X-Robots-Tag:noindex
X-PUBLISHED-TTL:PT1H
BEGIN:VTIMEZONE
TZID:Pacific/Auckland
BEGIN:STANDARD
TZOFFSETFROM:+1300
TZOFFSETTO:+1200
TZNAME:NZST
DTSTART:20250405T140000
END:STANDARD
BEGIN:DAYLIGHT
TZOFFSETFROM:+1200
TZOFFSETTO:+1300
TZNAME:NZDT
DTSTART:20250927T140000
END:DAYLIGHT
BEGIN:STANDARD
TZOFFSETFROM:+1300
TZOFFSETTO:+1200
TZNAME:NZST
DTSTART:20260404T140000
END:STANDARD
BEGIN:DAYLIGHT
TZOFFSETFROM:+1200
TZOFFSETTO:+1300
TZNAME:NZDT
DTSTART:20260926T140000
END:DAYLIGHT
BEGIN:STANDARD
TZOFFSETFROM:+1300
TZOFFSETTO:+1200
TZNAME:NZST
DTSTART:20270403T140000
END:STANDARD
BEGIN:DAYLIGHT
TZOFFSETFROM:+1200
TZOFFSETTO:+1300
TZNAME:NZDT
DTSTART:20270925T140000
END:DAYLIGHT
BEGIN:STANDARD
TZOFFSETFROM:+1300
TZOFFSETTO:+1200
TZNAME:NZST
DTSTART:20280401T140000
END:STANDARD
BEGIN:DAYLIGHT
TZOFFSETFROM:+1200
TZOFFSETTO:+1300
TZNAME:NZDT
DTSTART:20280923T140000
END:DAYLIGHT
END:VTIMEZONE
BEGIN:VEVENT
DTSTART;VALUE=DATE:20261017
DTEND;VALUE=DATE:20261018
DTSTAMP:20260423T013259
CREATED:20260128T230500Z
LAST-MODIFIED:20260128T230500Z
UID:3467-1792195200-1792281599@tsnz.nz
SUMMARY:South Island Air
DESCRIPTION:South Island Air – Designated match
URL:https://tsnz.nz/event/south-island-air/
LOCATION:Region
CATEGORIES:Air Rifle
END:VEVENT
BEGIN:VEVENT
DTSTART;TZID=Pacific/Auckland:20261019T080000
DTEND;TZID=Pacific/Auckland:20261025T170000
DTSTAMP:20260423T013259
CREATED:20260420T021524Z
LAST-MODIFIED:20260420T022249Z
UID:4026-1792396800-1792947600@tsnz.nz
SUMMARY:Air Rifle Postal Competition
DESCRIPTION:Air Rifle Postal Competition Poster \nAir Rifle Postal entry form \nCompetition Rules
URL:https://tsnz.nz/event/air-rifle-postal-competition-7/
LOCATION:Region
CATEGORIES:Air Rifle
END:VEVENT
BEGIN:VEVENT
DTSTART;VALUE=DATE:20261107
DTEND;VALUE=DATE:20261108
DTSTAMP:20260423T013259
CREATED:20260128T230843Z
LAST-MODIFIED:20260128T230843Z
UID:3473-1794009600-1794095999@tsnz.nz
SUMMARY:South Waikato 50m prone and Air Champs
DESCRIPTION:South Waikato 50m prone and Air Champs
URL:https://tsnz.nz/event/south-waikato-50m-prone-and-air-champs/
LOCATION:Region
CATEGORIES:Air Rifle,Outdoor
END:VEVENT
BEGIN:VEVENT
DTSTART;TZID=Pacific/Auckland:20261123T080000
DTEND;TZID=Pacific/Auckland:20261129T170000
DTSTAMP:20260423T013259
CREATED:20260420T021602Z
LAST-MODIFIED:20260420T022329Z
UID:4028-1795420800-1795971600@tsnz.nz
SUMMARY:Air Rifle Postal Competition
DESCRIPTION:Air Rifle Postal Competition Poster \nAir Rifle Postal entry form \nCompetition Rules
URL:https://tsnz.nz/event/air-rifle-postal-competition-8/
LOCATION:Region
CATEGORIES:Air Rifle
END:VEVENT
BEGIN:VEVENT
DTSTART;VALUE=DATE:20261205
DTEND;VALUE=DATE:20261206
DTSTAMP:20260423T013259
CREATED:20260128T231608Z
LAST-MODIFIED:20260128T231608Z
UID:3489-1796428800-1796515199@tsnz.nz
SUMMARY:Totara Road Air
DESCRIPTION:Totara Road Air – Designated match
URL:https://tsnz.nz/event/totara-road-air/
LOCATION:Region
CATEGORIES:Air Rifle
END:VEVENT
BEGIN:VEVENT
DTSTART;VALUE=DATE:20261206
DTEND;VALUE=DATE:20261207
DTSTAMP:20260423T013259
CREATED:20260128T231657Z
LAST-MODIFIED:20260128T231657Z
UID:3491-1796515200-1796601599@tsnz.nz
SUMMARY:Awapuni Air
DESCRIPTION:Awapuni Air – Designated match
URL:https://tsnz.nz/event/awapuni-air/
LOCATION:Region
CATEGORIES:Air Rifle
END:VEVENT
BEGIN:VEVENT
DTSTART;VALUE=DATE:20261211
DTEND;VALUE=DATE:20261212
DTSTAMP:20260423T013259
CREATED:20260128T231750Z
LAST-MODIFIED:20260128T231750Z
UID:3493-1796947200-1797033599@tsnz.nz
SUMMARY:Canterbury Air
DESCRIPTION:Canterbury Air
URL:https://tsnz.nz/event/canterbury-air/
LOCATION:Region
CATEGORIES:Air Rifle
END:VEVENT
BEGIN:VEVENT
DTSTART;VALUE=DATE:20261212
DTEND;VALUE=DATE:20261213
DTSTAMP:20260423T013259
CREATED:20260128T231934Z
LAST-MODIFIED:20260128T231934Z
UID:3495-1797033600-1797119999@tsnz.nz
SUMMARY:Canterbury 3P & Air & 50m prone Sweepstakes
DESCRIPTION:Canterbury 3P & Air – Designated matches & 50m prone Sweepstakes
URL:https://tsnz.nz/event/canterbury-3p-air-50m-prone-sweepstakes/
LOCATION:Region
CATEGORIES:Air Rifle,Outdoor
END:VEVENT
BEGIN:VEVENT
DTSTART;TZID=Pacific/Auckland:20261214T080000
DTEND;TZID=Pacific/Auckland:20261220T170000
DTSTAMP:20260423T013259
CREATED:20260420T021640Z
LAST-MODIFIED:20260420T022400Z
UID:4030-1797235200-1797786000@tsnz.nz
SUMMARY:Air Rifle Postal Competition
DESCRIPTION:Air Rifle Postal Competition Poster \nAir Rifle Postal entry form \nCompetition Rules
URL:https://tsnz.nz/event/air-rifle-postal-competition-9/
LOCATION:Region
CATEGORIES:Air Rifle
END:VEVENT
BEGIN:VEVENT
DTSTART;TZID=Pacific/Auckland:20270125T080000
DTEND;TZID=Pacific/Auckland:20270131T170000
DTSTAMP:20260423T013259
CREATED:20260420T021720Z
LAST-MODIFIED:20260420T022436Z
UID:4032-1800864000-1801414800@tsnz.nz
SUMMARY:Air Rifle Postal Competition
DESCRIPTION:Air Rifle Postal Competition Poster \nAir Rifle Postal entry form \nCompetition Rules
URL:https://tsnz.nz/event/air-rifle-postal-competition-10/
LOCATION:Region
CATEGORIES:Air Rifle
END:VEVENT
BEGIN:VEVENT
DTSTART;TZID=Pacific/Auckland:20270222T080000
DTEND;TZID=Pacific/Auckland:20270228T170000
DTSTAMP:20260423T013259
CREATED:20260420T021803Z
LAST-MODIFIED:20260420T022514Z
UID:4034-1803283200-1803834000@tsnz.nz
SUMMARY:Air Rifle Postal Competition
DESCRIPTION:Air Rifle Postal Competition Poster \nAir Rifle Postal entry form \nCompetition Rules
URL:https://tsnz.nz/event/air-rifle-postal-competition-11/
LOCATION:Region
CATEGORIES:Air Rifle
END:VEVENT
BEGIN:VEVENT
DTSTART;TZID=Pacific/Auckland:20270322T080000
DTEND;TZID=Pacific/Auckland:20270328T170000
DTSTAMP:20260423T013259
CREATED:20260420T021840Z
LAST-MODIFIED:20260420T022552Z
UID:4036-1805702400-1806253200@tsnz.nz
SUMMARY:Air Rifle Postal Competition
DESCRIPTION:Air Rifle Postal Competition Poster \nAir Rifle Postal entry form \nCompetition Rules
URL:https://tsnz.nz/event/air-rifle-postal-competition-12/
LOCATION:Region
CATEGORIES:Air Rifle
END:VEVENT
END:VCALENDAR